BEGIN:VCALENDAR
VERSION:2.0
PRODID:-//Library Market//iCal Export//EN
BEGIN:VEVENT
SUMMARY:Dinosaur &quot;Tea-Rex&quot; Dance Party (Ages 2y+Families)
UID:37101
DTSTAMP:20260421T193800Z
DTSTART:20260619T140000Z
DTEND:20260619T160000Z
LOCATION:Scott County Public Library, 104 South Bradford Ln, Georgetown, K
 Y 40324, United States
ROOM: Meeting Room C
DESCRIPTION:Join us for a Tea-Rex party of Jurassic Proportions! Choose fr
 om one of two timed sessions: 10am -11 session or the 11-12noon session. T
 imes tickets available beginning Monday, June 8th at the Youth Desk. Pleas
 e allow for more children by restricting the number of adults. No more tha
 n 2 adults per family suggested.Free for all ages!  The annual Dinosaur D
 ance Party is back, with crafts, games, Tea party Etiquette and our own ro
 aming dinosaur ready for pictures with you &amp; your little ones!  Dress
  in your dino best or for a fun tea party! Raffle and sticker prizes.  Do
 ors close when we reach capacity per fire marshal! 
URL:https://scottcounty.librarycalendar.com/event/fun-friday-hold-37101
END:VEVENT
END:VCALENDAR
