BEGIN:VCALENDAR
VERSION:2.0
PRODID:-//Library Market//iCal Export//EN
BEGIN:VEVENT
SUMMARY:Military History
UID:43232
DTSTAMP:20260420T015600Z
DTSTART:20260613T200000Z
DTEND:20260613T213000Z
LOCATION:Scott County Public Library, 104 South Bradford Ln, Georgetown, K
 Y 40324, United States
ROOM: Meeting Room C
DESCRIPTION:Military History Group: Conflict in Iran: In late February 202
 6, Israel and the United States coordinated an attack on Iran. Join Dr. Ro
 bert Farley, Senior Lecturer at the Patterson School (University of Kentuc
 ky), as he explores this conflict while highlighting the strategic importa
 nce of the Strait of Hormuz.The Military History Group is a bimonthly disc
 ussion group. Please come prepared to offer your own knowledge of history 
 and contribute towards making this an interesting session. 
URL:https://scottcounty.librarycalendar.com/index.php/event/military-histo
 ry-43232
END:VEVENT
END:VCALENDAR
