BEGIN:VCALENDAR
VERSION:2.0
PRODID:-//Library Market//iCal Export//EN
BEGIN:VEVENT
SUMMARY:Dinosaur &quot;Tea-Rex&quot; Dance Party (TICKETS Required- 2 sess
 ions) (Ages 2y+Families)
UID:37101
DTSTAMP:20260423T082800Z
DTSTART:20260619T140000Z
DTEND:20260619T160000Z
LOCATION:Scott County Public Library, 104 South Bradford Ln, Georgetown, K
 Y 40324, United States
ROOM: Meeting Room C
DESCRIPTION:Timed TICKETS REQUIRED-There will be TWO sessions! 10am or 11a
 m.Join us for a Tea-Rex party of Jurassic Proportions! Choose from one of 
 two timed sessions: 10am -11 session or the 11-12noon session. Times ticke
 ts available beginning Monday, June 8th at the Youth Desk. Please allow fo
 r more children by restricting the number of adults. No more than 2 adults
  per family suggested.Free for all ages!  The annual Dinosaur Dance Party
  is back, with crafts, games, Tea party Etiquette and our own roaming dino
 saur ready for pictures with you &amp; your little ones!  Dress in your d
 ino best or for a fun tea party! Raffle and sticker prizes.  Doors close 
 when we reach capacity per fire marshal! 
URL:https://scottcounty.librarycalendar.com/index.php/event/fun-friday-hol
 d-37101
END:VEVENT
END:VCALENDAR
