BEGIN:VCALENDAR
VERSION:2.0
PRODID:-//Library Market//iCal Export//EN
BEGIN:VEVENT
SUMMARY:Sable Snyder Music (Ages 2-12y)
UID:37100
DTSTAMP:20260421T095300Z
DTSTART:20260612T150000Z
DTEND:20260612T161500Z
LOCATION:Scott County Public Library, 104 South Bradford Ln, Georgetown, K
 Y 40324, United States
ROOM: Meeting Room C
DESCRIPTION:Sing along with local musician and music teacher, Sable Snyder
 . Get ready to move, sing, dance, and swing!  Free. Best for ages 2-10y.
URL:https://scottcounty.librarycalendar.com/index.php/event/fun-friday-hol
 d-37100
END:VEVENT
END:VCALENDAR
